BEGIN:VCALENDAR
VERSION:2.0
PRODID:-//wp-events-plugin.com//7.2.3.1//EN
TZID:America/New_York
X-WR-TIMEZONE:America/New_York
BEGIN:VEVENT
UID:71@edgewaterptso.org
DTSTART;TZID=America/New_York:20250730T120000
DTEND;TZID=America/New_York:20250730T160000
DTSTAMP:20250714T003417Z
URL:https://edgewaterptso.org/events/2025-laptop-device-distribution-2/
SUMMARY:2025 Laptop Device Distribution
DESCRIPTION:Laptop Distribution. Jennifer La Sala • 3 days ago • Thursd
 ay\, Jul 10 at 2:48 PM • EDGEWATER HIGH\n\nEdgewater Families\,\n\nWe’
 re so excited to kick off another amazing school year! As we gear up for a
  year full of learning\, growth\, and discovery\, all students are invited
  to come by and pick up their school-issued laptop on any of the dates/tim
 es below.\n\nTuesday\, July 29: 9:00 AM - 12:00 PM\nWednesday\, July 30: 1
 2:00 PM - 4:00 PM\nThursday\, July 31: 9:00 AM - 12:00 PM\nFriday\, August
  1: 9:00 AM - 12:00 PM\n\nThis is a great opportunity to:\n\n- Get your de
 vice ready for the first day of school\n- Ask any tech-related questions\n
 - Meet some of our friendly staff\n\nLet’s start the year strong—we ca
 n’t wait to see you!
ATTACH;FMTTYPE=image/jpeg:https://edgewaterptso.org/wp-content/uploads/202
 5/07/2025-LaptopDistribution1.png
END:VEVENT
BEGIN:VTIMEZONE
TZID:America/New_York
X-LIC-LOCATION:America/New_York
BEGIN:DAYLIGHT
DTSTART:20250309T030000
TZOFFSETFROM:-0500
TZOFFSETTO:-0400
TZNAME:EDT
END:DAYLIGHT
END:VTIMEZONE
END:VCALENDAR