BEGIN:VCALENDAR
VERSION:2.0
PRODID:-//wp-events-plugin.com//7.2.3.1//EN
TZID:America/New_York
X-WR-TIMEZONE:America/New_York
BEGIN:VEVENT
UID:69@edgewaterptso.org
DTSTART;TZID=America/New_York;VALUE=DATE:20250704
DTEND;TZID=America/New_York;VALUE=DATE:20250812
DTSTAMP:20250708T234359Z
URL:https://edgewaterptso.org/events/breaking-news-grade-a/
SUMMARY:BREAKING NEWS - GRADE A
DESCRIPTION:Posted by Alex Jackson on Monday\, Jul 7 at 2:59 PM in EDGEWATE
 R HIGH\n\nWe did it! So incredibly proud to announce our school has achiev
 ed an "A"  grade! This is a testament to the hard work\, dedication\, and
  collaboration of our amazing students\, passionate teachers\, supportive 
 staff\, and incredible families. Together\, we are building a brighter fut
 ure! WE ARE COMMITTED TO EXCELLENCE!
ATTACH;FMTTYPE=image/jpeg:https://edgewaterptso.org/wp-content/uploads/202
 5/07/2025-Grade-A.jpg
END:VEVENT
BEGIN:VTIMEZONE
TZID:America/New_York
X-LIC-LOCATION:America/New_York
BEGIN:DAYLIGHT
DTSTART:20250309T030000
TZOFFSETFROM:-0500
TZOFFSETTO:-0400
TZNAME:EDT
END:DAYLIGHT
END:VTIMEZONE
END:VCALENDAR