BEGIN:VCALENDAR
VERSION:2.0
PRODID:-//wp-events-plugin.com//7.2.3.1//EN
TZID:America/New_York
X-WR-TIMEZONE:America/New_York
BEGIN:VEVENT
UID:68@edgewaterptso.org
DTSTART;TZID=America/New_York:20260511T190000
DTEND;TZID=America/New_York:20260511T200000
DTSTAMP:20250708T233450Z
URL:https://edgewaterptso.org/events/ptso-2026-may-meeting/
SUMMARY:PTSO 2026 May Meeting
DESCRIPTION:Join us in the ARC\, aka "Fish Bowl".\n\nIf you would like to c
 onnect better with EHS and are interested in helping other families connec
 t too\, please consider joining our leadership team for the 2025-2026 scho
 ol year.\n\nIf you have any questions and/or ideas you would like to share
 \, please contact us at info@edgewaterptso.org\n\nThank you for your suppo
 rt!\n\n[wpforms id="10085" title="true"]
ATTACH;FMTTYPE=image/jpeg:https://edgewaterptso.org/wp-content/uploads/202
 5/07/2025-PTSO-sign-Up-meeting.jpg
CATEGORIES:PTSA Meeting
END:VEVENT
BEGIN:VTIMEZONE
TZID:America/New_York
X-LIC-LOCATION:America/New_York
BEGIN:DAYLIGHT
DTSTART:20260308T030000
TZOFFSETFROM:-0500
TZOFFSETTO:-0400
TZNAME:EDT
END:DAYLIGHT
END:VTIMEZONE
END:VCALENDAR