BEGIN:VCALENDAR
VERSION:2.0
PRODID:-//wp-events-plugin.com//7.2.3.1//EN
TZID:America/New_York
X-WR-TIMEZONE:America/New_York
BEGIN:VEVENT
UID:85@edgewaterptso.org
DTSTART;TZID=America/New_York:20260522T140000
DTEND;TZID=America/New_York:20260522T163000
DTSTAMP:20260110T214730Z
URL:https://edgewaterptso.org/events/senior-graduation/
SUMMARY:Senior Graduation
DESCRIPTION:A letter detailing information about graduation\, rehearsal\, d
 ress code\, and logistics will be distributed at the beginning of May.\n\n
 Location - UCF Addition Financial Arena \n\nCheck back for details.
ATTACH;FMTTYPE=image/jpeg:https://edgewaterptso.org/wp-content/uploads/202
 3/07/eagle_head.jpg
CATEGORIES:Senior Activities
LOCATION:Addition Financial Arena at UCF\, 12777 Gemini Blvd N\, Orlando\, 
 FL\, 32816\, United States
GEO:28.607331;-81.197273
X-APPLE-STRUCTURED-LOCATION;VALUE=URI;X-ADDRESS=12777 Gemini Blvd N\, Orlan
 do\, FL\, 32816\, United States;X-APPLE-RADIUS=100;X-TITLE=Addition Financ
 ial Arena at UCF:geo:28.607331,-81.197273
END:VEVENT
BEGIN:VTIMEZONE
TZID:America/New_York
X-LIC-LOCATION:America/New_York
BEGIN:DAYLIGHT
DTSTART:20260308T030000
TZOFFSETFROM:-0500
TZOFFSETTO:-0400
TZNAME:EDT
END:DAYLIGHT
END:VTIMEZONE
END:VCALENDAR